BEGIN:VCALENDAR
VERSION:2.0
PRODID:-//ChamberMaster//Event Calendar 2.0//EN
METHOD:PUBLISH
X-PUBLISHED-TTL:P3D
REFRESH-INTERVAL:P3D
CALSCALE:GREGORIAN
BEGIN:VEVENT
DTSTART:20250830T170000Z
DTEND:20250830T210000Z
X-MICROSOFT-CDO-ALLDAYEVENT:FALSE
SUMMARY:Cars & Courage
DESCRIPTION:Join us on Saturday\, August 30th at 11 am for a fun community event hosted by 4th Dimension Wraps! It's free to come\, just register so we know who to expect! There will be vendors\, cool cars (some from John Elway Cadillac)\, food trucks\, K4CO Radio broadcasting\, and more! The Crisis Center is celebrating our 40th year of serving the community so we are suggesting a donation of $40. Donations in any amount help us to continue our mission to end domestic violence through advocacy\, education\, and prevention. We accomplish this by providing free\, confidential\, trauma informed services that include a 24-hour crisis line\, emergency shelter services\, community-based advocacy\, legal advocacy\, a lawyer program\, therapy\, and community education! Interested vendors\, please click on this link: Cars & Courage   Vendor Registration Form\n\nCars & Courage\, Women's Car Show Celebrating The Crisis Center Tickets\, Sat\, Aug 30\, 2025 at 11:00 AM | Eventbrite
X-ALT-DESC;FMTTYPE=text/html:<span style="font-family:maven pro\,sans-serif\; font-size:16px">Join us on Saturday\, August 30th at 11 am for a fun community event hosted by 4th Dimension Wraps! It&#39\;s free to come\, just register so we know who to expect! There will be vendors\, cool cars (some from John Elway Cadillac)\, food trucks\, K4CO Radio broadcasting\, and more! The Crisis Center&nbsp\;is celebrating our 40th year of serving the community so we are suggesting a donation of $40. Donations in any amount help us to continue our mission to end domestic violence through advocacy\, education\, and prevention. We accomplish this by providing free\, confidential\, trauma informed services that include a 24-hour crisis line\, emergency shelter services\, community-based advocacy\, legal advocacy\, a lawyer program\, therapy\, and community education! Interested vendors\, please click on this link:&nbsp\;</span><a href="https://docs.google.com/forms/d/e/1FAIpQLSeHEYF8ob2r4Csmaz0zk43hG4aXY3bLgL-nLyvIqKHqjeNlBA/viewform">Cars &amp\; Courage &ndash\; Vendor Registration Form</a><br />\n<a href="https://www.eventbrite.com/e/cars-courage-womens-car-show-celebrating-the-crisis-center-tickets-1497766874039?aff=eivtefrnd&amp\;utm_share_source=listing_android">Cars &amp\; Courage\, Women&#39\;s Car Show Celebrating The Crisis Center Tickets\, Sat\, Aug 30\, 2025 at 11:00 AM | Eventbrite</a>
LOCATION:4th Dimension Wraps 3535 South Platte River Drive\, Unit D Sheridan\, CO 80113
UID:e.7785.22258
SEQUENCE:3
DTSTAMP:20260420T101542Z
URL:https://members.nwdouglascounty.org/events/details/cars-courage-22258
END:VEVENT

END:VCALENDAR
