BEGIN:VCALENDAR
VERSION:2.0
PRODID:-//ChamberMaster//Event Calendar 2.0//EN
METHOD:PUBLISH
X-PUBLISHED-TTL:P3D
REFRESH-INTERVAL:P3D
CALSCALE:GREGORIAN
BEGIN:VEVENT
DTSTART;VALUE=DATE:20250922
DTEND;VALUE=DATE:20250927
TRANSP:TRANSPARENT
X-MICROSOFT-CDO-ALLDAYEVENT:TRUE
SUMMARY:Denver Metro Leadership Exchange (Invite Only)
DESCRIPTION:Leadership Exchange\n\n\n \n\n\n\n\nOn this invitation-only trip\, more than 130 business and civic leaders go to the source of innovative community leadership taking place in a U.S. or international city to explore and learn together\, then bring back big ideas to improve Colorado.\n\n\n	Explore the latest leadership trends and innovations of another community\, then launch new ideas in the Denver metro area\n	Activate your network and make new connections\n	Reach influencers and decision makers across all sectors of our community\n	Become part of an influential network of diverse leaders as a Leadership Foundation alum\n\n\nParticipation in Leadership Exchange is by invitation only\, however nominations are accepted six months before departure to ensure a diverse delegation with broad experience and relevant expertise.
X-ALT-DESC;FMTTYPE=text/html:<div class="fusion-title title fusion-title-1 fusion-title-text fusion-title-size-one" style="box-sizing: border-box\; --awb-highlight-color: #006daa\; --awb-highlight-top-margin: 0\; --awb-highlight-width: 9\; --awb-text-color: #727273\; --awb-margin-top: 0px\; --awb-margin-right: 0px\; --awb-margin-bottom: 0px\; --awb-margin-left: 0px\; --awb-link-color: #006daa\; --awb-link-hover-color: #006daa\; --awb-sep-color: #006daa\; --awb-font-size: 22px\; --awb-marquee-direction: normal\; --awb-marquee-speed: 5000ms\; --awb-marquee-translate-x: 100%\; --awb-marquee-translate-y: 0%\; margin: 0px\; display: flex\; flex-wrap: nowrap\; align-items: center\; border-bottom-color: rgb(0\, 109\, 170)\; font-size: 22px\;">\n<h1 class="fusion-title-heading title-heading-left fusion-responsive-typography-calculated" data-fontsize="22" data-lineheight="31.02px" style="box-sizing: border-box\; font-family: Verdana\, Geneva\, sans-serif\; font-weight: 700\; line-height: 1.41\; font-size: 1em\; color: rgb(114\, 114\, 115)\; margin: 0px\; --minFontSize: 22\; --minViewportSize: 360\; --maxViewportSize: 1099\; --side_header_width: 0\; --side_header_width-int: 0\; flex-grow: 0\; padding: 0px\; --fontSize: 22\;"><span style="box-sizing: border-box\; color: rgb(0\, 109\, 170)\;">Leadership Exchange</span></h1>\n\n<div class="title-sep-container" style="box-sizing: border-box\; position: relative\; height: 6px\; flex-grow: 1\;">\n<div class="title-sep sep-single sep-solid" style="box-sizing: content-box\; position: relative\; width: 377.031px\; border-color: rgb(0\, 109\, 170)\; border-style: solid\; border-width: 0px 0px 1px\; border-image: none 100% / 1 / 0 stretch\;">&nbsp\;</div>\n</div>\n</div>\n\n<div class="fusion-text fusion-text-1" style="box-sizing: border-box\; --awb-content-alignment: initial\; --awb-font-size: inherit\; --awb-line-height: inherit\; --awb-letter-spacing: inherit\; --awb-text-transform: none\; --awb-text-color: inherit\; --awb-text-font-family: inherit\; --awb-text-font-style: inherit\; --awb-text-font-weight: inherit\; --awb-columns: 1\; --awb-column-spacing: 2em\; --awb-column-min-width: 100px\; --awb-rule-style: none\; --awb-margin-top: 0\; --awb-margin-right: 0\; --awb-margin-bottom: 0\; --awb-margin-left: 0\; --awb-user-select: auto\; font-size: 15px\; line-height: 1.33\; color: rgb(114\, 114\, 115)\; font-family: Verdana\, Geneva\, sans-serif\; margin: 0px\; user-select: auto\;">\n<p style="box-sizing: border-box\; margin: 0px 0px 20px\;">On this invitation-only trip\, more than 130 business and civic leaders go to the source of innovative community leadership taking place in a U.S. or international city to explore and learn together\, then bring back big ideas to improve Colorado.</p>\n\n<ul style="box-sizing: border-box\;">\n	<li style="box-sizing: border-box\;">Explore the latest leadership trends and innovations of another community\, then launch new ideas in the Denver metro area</li>\n	<li style="box-sizing: border-box\;">Activate your network and make new connections</li>\n	<li style="box-sizing: border-box\;">Reach influencers and decision makers across all sectors of our community</li>\n	<li style="box-sizing: border-box\;">Become part of an influential network of diverse leaders as a Leadership Foundation alum</li>\n</ul>\n\n<p style="box-sizing: border-box\; margin: 0px 0px 20px\;">Participation in Leadership Exchange is by invitation only\, however nominations are accepted six months before departure to ensure a diverse delegation with broad experience and relevant expertise.</p>\n</div>\n
LOCATION:Destination: Dublin\, Ireland
UID:e.7785.21734
SEQUENCE:3
DTSTAMP:20260422T085647Z
URL:https://members.nwdouglascounty.org/events/details/denver-metro-leadership-exchange-invite-only-21734
END:VEVENT

END:VCALENDAR
