BEGIN:VCALENDAR
VERSION:2.0
PRODID:-//ChamberMaster//Event Calendar 2.0//EN
METHOD:PUBLISH
X-PUBLISHED-TTL:P3D
REFRESH-INTERVAL:P3D
CALSCALE:GREGORIAN
BEGIN:VEVENT
DTSTART:20240124T230000Z
DTEND:20240125T010000Z
X-MICROSOFT-CDO-ALLDAYEVENT:FALSE
SUMMARY:January Business After Hours - Speed Networking
DESCRIPTION:
X-ALT-DESC;FMTTYPE=text/html:
LOCATION:The Conference Center at Ridgegate 9878 Schwab Way\, Suite 401\, Lone Tree\, CO 80124
UID:e.7785.21419
SEQUENCE:3
DTSTAMP:20260421T180357Z
URL:https://members.nwdouglascounty.org/events/details/january-business-after-hours-speed-networking-21419
END:VEVENT

END:VCALENDAR
