BEGIN:VCALENDAR
VERSION:2.0
PRODID:-//ChamberMaster//Event Calendar 2.0//EN
METHOD:PUBLISH
X-PUBLISHED-TTL:P3D
REFRESH-INTERVAL:P3D
CALSCALE:GREGORIAN
BEGIN:VEVENT
DTSTART:20240927T000000Z
DTEND:20240927T023000Z
X-MICROSOFT-CDO-ALLDAYEVENT:FALSE
SUMMARY:Manna Resource Center Annual Event
DESCRIPTION:Transformative Journeys to Lasting Impact\, 9/26/24 from 6-8 p.m. Experience transformation that leads to a lasting impact. Gather with us for an immersive evening you'll step into the lives of our clients and witness their journeys from challenges to transformation.
X-ALT-DESC;FMTTYPE=text/html:Transformative Journeys to Lasting Impact\, 9/26/24 from 6-8 p.m. Experience transformation that leads to a lasting impact. Gather with us for an immersive evening you&#39\;ll step into the lives of our clients and witness their journeys from challenges to transformation.
LOCATION:Cielo at Castle Pines 485 West Happy Canyon Road Castle Pines\, CO 80108
UID:e.7785.21553
SEQUENCE:3
DTSTAMP:20260421T045024Z
URL:https://members.nwdouglascounty.org/events/details/manna-resource-center-annual-event-21553
END:VEVENT

END:VCALENDAR
