BEGIN:VCALENDAR
VERSION:2.0
PRODID:-//ChamberMaster//Event Calendar 2.0//EN
METHOD:PUBLISH
X-PUBLISHED-TTL:P3D
REFRESH-INTERVAL:P3D
CALSCALE:GREGORIAN
BEGIN:VEVENT
DTSTART:20240921T141500Z
DTEND:20240921T180000Z
X-MICROSOFT-CDO-ALLDAYEVENT:FALSE
SUMMARY:Miles 4 Madison 5K & 1K Fun Run
DESCRIPTION:Join Miles 4 Madison for their annual  5k and 1k fun run on September 21st! \n\nProceeds from Miles 4 Madison will help provide educational and recreational opportunities for families with children with special needs.
X-ALT-DESC;FMTTYPE=text/html:Join Miles 4 Madison for their annual&nbsp\; 5k and 1k fun run on September 21st!&nbsp\;<br />\nProceeds from Miles 4 Madison will help provide educational and recreational opportunities for families with children with special needs.&nbsp\;
LOCATION:Providence Park - 8100 Piney River Ave\, Littleton\, CO
UID:e.7785.21517
SEQUENCE:3
DTSTAMP:20260421T045739Z
URL:https://members.nwdouglascounty.org/events/details/miles-4-madison-5k-1k-fun-run-21517
END:VEVENT

END:VCALENDAR
