BEGIN:VCALENDAR
VERSION:2.0
PRODID:-//ChamberMaster//Event Calendar 2.0//EN
METHOD:PUBLISH
X-PUBLISHED-TTL:P3D
REFRESH-INTERVAL:P3D
CALSCALE:GREGORIAN
BEGIN:VEVENT
DTSTART:20230923T140000Z
DTEND:20230923T180000Z
X-MICROSOFT-CDO-ALLDAYEVENT:FALSE
SUMMARY:Miles 4 Madison 5K/1K Fun Run in Sterling Ranch
DESCRIPTION:Miles 4 Madison is a 5K/1K Fun Run supported by Sterling Ranch CAB. Miles 4 Madison's goal is to provide educational and recreational opportunities for families with children with special needs. The Race is for all capabilities\, strollers\, and pet friendly!\n\nAfter the success of the 2022 race\, Miles for Madison provided scholarships for several Douglas County children to attend the week-long summer camp at Easter Seals Rocky Mountain Village. Playground equipment was donated to the Joshua School in Centennial\, CO. Miles for Madison is also working to build inclusive parks in the Chatfield Basin.\n\nThe Race will take place in the Sterling Ranch Community's Providence Park. The race address is 8100 Piney River Avenue\, Littleton\, CO 80125
X-ALT-DESC;FMTTYPE=text/html:<p><span style="color:rgb(0\, 0\, 0)">Miles 4 Madison is a 5K/1K Fun Run supported by Sterling Ranch CAB. Miles 4 Madison&#39\;s goal is to provide educational and recreational opportunities for families with children with special needs. The Race is for all capabilities\, strollers\, and pet friendly!</span></p>\n\n<p><span style="color:rgb(0\, 0\, 0)">After the success of the 2022 race\, Miles for Madison provided scholarships for several Douglas County children to attend the week-long summer camp at Easter Seals Rocky Mountain Village. Playground equipment was donated to the Joshua School in Centennial\, CO. Miles for Madison is also working to build inclusive parks in the Chatfield Basin.</span></p>\n\n<p><span style="color:rgb(0\, 0\, 0)">The Race will take place in the Sterling Ranch Community&#39\;s Providence Park. The race address is 8100 Piney River Avenue\, Littleton\, CO 80125</span></p>\n
LOCATION:Providence Park in Sterling Ranch 8100 Piney River Avenue\, Littleton\, CO 80125
UID:e.7785.21383
SEQUENCE:3
DTSTAMP:20260422T002105Z
URL:https://members.nwdouglascounty.org/events/details/miles-4-madison-5k-1k-fun-run-in-sterling-ranch-21383
END:VEVENT

END:VCALENDAR
