BEGIN:VCALENDAR
VERSION:2.0
PRODID:-//ChamberMaster//Event Calendar 2.0//EN
METHOD:PUBLISH
X-PUBLISHED-TTL:P3D
REFRESH-INTERVAL:P3D
CALSCALE:GREGORIAN
BEGIN:VEVENT
DTSTART:20250118T160000Z
DTEND:20250118T200000Z
X-MICROSOFT-CDO-ALLDAYEVENT:FALSE
SUMMARY:OPEN HOUSE - Awaken Chiropractic & Sports Medicine
DESCRIPTION:Open House! \n\n*Raffles\n\n*Snacks and beverages\n\n*Tour the practice\n\n*Hydrate IV Bar
X-ALT-DESC;FMTTYPE=text/html:Open House!&nbsp\;<br />\n*Raffles<br />\n*Snacks and beverages<br />\n*Tour the practice<br />\n*Hydrate IV Bar
LOCATION:6654 Timberline Rd. Highlands Ranch\, CO
UID:e.7785.21579
SEQUENCE:3
DTSTAMP:20260420T202956Z
URL:https://members.nwdouglascounty.org/events/details/open-house-awaken-chiropractic-sports-medicine-21579
END:VEVENT

END:VCALENDAR
