BEGIN:VCALENDAR
VERSION:2.0
PRODID:-//ChamberMaster//Event Calendar 2.0//EN
METHOD:PUBLISH
X-PUBLISHED-TTL:P3D
REFRESH-INTERVAL:P3D
CALSCALE:GREGORIAN
BEGIN:VEVENT
DTSTART:20250824T000000Z
DTEND:20250824T030000Z
X-MICROSOFT-CDO-ALLDAYEVENT:FALSE
SUMMARY:Pasta in the Park
DESCRIPTION:On August 23rd\, TESSA's Pasta in the Park will bring together hundreds of supporters on the Myron Stratton campus to eat\, drink\, socialize\, and most importantly\, support a worthy cause. Our theme this year is "A Story in Bloom" focusing on how we support survivors to transcend the previous traumatic chapters of their lives and allow their new lives to bloom. Visually\, the d cor will include whimsical florals\, old books\, etc. We'll be allowing survivors to share their stories of growth by reading from books on stage\, or having their stories read by a friend/family member or a TESSA advocate. We'll encourage cook-off teams to find literary inspiration for their table decorations and pasta sauce recipes.
X-ALT-DESC;FMTTYPE=text/html:On August 23rd\, TESSA&rsquo\;s Pasta in the Park will bring together hundreds of supporters on the Myron Stratton campus to eat\, drink\, socialize\, and most importantly\, support a worthy cause. Our theme this year is &ldquo\;A Story in Bloom&rdquo\; focusing on how we support survivors to transcend the previous traumatic chapters of their lives and allow their new lives to bloom. Visually\, the d&eacute\;cor will include whimsical florals\, old books\, etc. We&rsquo\;ll be allowing survivors to share their stories of growth by reading from books on stage\, or having their stories read by a friend/family member or a TESSA advocate. We&rsquo\;ll encourage cook-off teams to find literary inspiration for their table decorations and pasta sauce recipes.
LOCATION:Myron Stratton Home Grounds 2525 Colorado Highway 115 Colorado Springs\, CO 80906
UID:e.7785.22248
SEQUENCE:3
DTSTAMP:20260420T101548Z
URL:https://members.nwdouglascounty.org/events/details/pasta-in-the-park-22248
END:VEVENT

END:VCALENDAR
