BEGIN:VCALENDAR
VERSION:2.0
PRODID:-//ChamberMaster//Event Calendar 2.0//EN
METHOD:PUBLISH
X-PUBLISHED-TTL:P3D
REFRESH-INTERVAL:P3D
CALSCALE:GREGORIAN
BEGIN:VEVENT
DTSTART:20200828T170000Z
DTEND:20200828T220000Z
X-MICROSOFT-CDO-ALLDAYEVENT:FALSE
SUMMARY:Perry's Steakhouse & Grille-Pork Chop Friday
DESCRIPTION:Our famous pork chop Friday lunch
X-ALT-DESC;FMTTYPE=text/html:Our famous pork chop Friday lunch
LOCATION:8433 Park Meadows Center Drive\, Suite D154 Lone Tree\, CO 80124
UID:e.7785.17554
SEQUENCE:3
DTSTAMP:20260422T221924Z
URL:https://members.nwdouglascounty.org/events/details/perry-s-steakhouse-grille-pork-chop-friday-08-28-2020-17554
END:VEVENT

END:VCALENDAR
