BEGIN:VCALENDAR
VERSION:2.0
PRODID:-//ChamberMaster//Event Calendar 2.0//EN
METHOD:PUBLISH
X-PUBLISHED-TTL:P3D
REFRESH-INTERVAL:P3D
CALSCALE:GREGORIAN
BEGIN:VEVENT
DTSTART:20240928T150000Z
DTEND:20240928T170000Z
X-MICROSOFT-CDO-ALLDAYEVENT:FALSE
SUMMARY:Renew the Ranch Open Space Cleanup
DESCRIPTION:Join us for Renew the Ranch\, a fall open space cleanup\, from 9-11 a.m. Saturday\, Sept. 28. Rain canceled this event in the spring\, but we're offering it as a fall cleanup in conjunction with a Douglas County volunteer day focused on outdoor cleanups. This is a perfect opportunity for families\, community groups and high school students seeking service hours. Renew the Ranch will be offered in two locations: ?? Marcy Gulch behind ThunderRidge High School\, 1991 W. Wildcat Reserve Parkway ?? Southridge open space area next to the Recreation Center at Southridge\, 4800 McArthur Ranch Road. Bags and gloves will be provided. To sign up\, go to https://tinyurl.com/3ppw3fwk
X-ALT-DESC;FMTTYPE=text/html:Join us for Renew the Ranch\, a fall open space cleanup\, from 9-11 a.m. Saturday\, Sept. 28. Rain canceled this event in the spring\, but we&#39\;re offering it as a fall cleanup in conjunction with a Douglas County volunteer day focused on outdoor cleanups. This is a perfect opportunity for families\, community groups and high school students seeking service hours. Renew the Ranch will be offered in two locations: ?? Marcy Gulch behind ThunderRidge High School\, 1991 W. Wildcat Reserve Parkway ?? Southridge open space area next to the Recreation Center at Southridge\, 4800 McArthur Ranch Road. Bags and gloves will be provided. To sign up\, go to https://tinyurl.com/3ppw3fwk
LOCATION:Marcy Gulch behind ThunderRidge High School\, 1991 W. Wildcat Reserve Pkwy Southridge open space area adjacent to Southridge Recreation Center\, 4800 McArthur Ranch Road
UID:e.7785.21556
SEQUENCE:3
DTSTAMP:20260421T045522Z
URL:https://members.nwdouglascounty.org/events/details/renew-the-ranch-open-space-cleanup-21556
END:VEVENT

END:VCALENDAR
