BEGIN:VCALENDAR
VERSION:2.0
PRODID:-//ChamberMaster//Event Calendar 2.0//EN
METHOD:PUBLISH
X-PUBLISHED-TTL:P3D
REFRESH-INTERVAL:P3D
CALSCALE:GREGORIAN
BEGIN:VEVENT
DTSTART:20250123T230000Z
DTEND:20250124T000000Z
X-MICROSOFT-CDO-ALLDAYEVENT:FALSE
SUMMARY:Ribbon Cutting Event - The Ranch Veterinary Hospital
DESCRIPTION:Join us for a Ribbon Cutting Event to welcome The Ranch Veterinary Hospital into the Douglas County Economic Development Corporation community on Thursday\, January 23rd.
X-ALT-DESC;FMTTYPE=text/html:Join us for a Ribbon Cutting Event to welcome The Ranch Veterinary Hospital into the Douglas County Economic Development Corporation community on Thursday\, January 23rd.
LOCATION:2201 West Wildcat Reserve Parkway Highlands Ranch\, CO 80129
UID:e.7785.21587
SEQUENCE:3
DTSTAMP:20260420T221207Z
URL:https://members.nwdouglascounty.org/events/details/ribbon-cutting-event-the-ranch-veterinary-hospital-21587
END:VEVENT

END:VCALENDAR
