BEGIN:VCALENDAR
VERSION:2.0
PRODID:-//ChamberMaster//Event Calendar 2.0//EN
METHOD:PUBLISH
X-PUBLISHED-TTL:P3D
REFRESH-INTERVAL:P3D
CALSCALE:GREGORIAN
BEGIN:VEVENT
DTSTART;VALUE=DATE:20220310
DTEND;VALUE=DATE:20220321
TRANSP:TRANSPARENT
X-MICROSOFT-CDO-ALLDAYEVENT:TRUE
SUMMARY:Shop Local - Aspen Grove
DESCRIPTION:Always\, but particularly between March 10 - 20\, shop our wide selection of local shops at Aspen Grove! For 10 days\, our 20 local vendors are offering special discounts\, sampling\, demonstrations and more! Follow the website link for a full list of participants and offers.
X-ALT-DESC;FMTTYPE=text/html:Always\, but particularly between March 10 - 20\, shop our wide selection of local shops at Aspen Grove! For 10 days\, our 20 local vendors are offering special discounts\, sampling\, demonstrations and more! Follow the website link for a full list of participants and offers.
LOCATION:Aspen Grove: 7301 S Santa Fe Dr in Littleton
UID:e.7785.20611
SEQUENCE:3
DTSTAMP:20260425T163725Z
URL:https://members.nwdouglascounty.org/events/details/shop-local-aspen-grove-20611
END:VEVENT

END:VCALENDAR
