BEGIN:VCALENDAR
VERSION:2.0
PRODID:-//ChamberMaster//Event Calendar 2.0//EN
METHOD:PUBLISH
X-PUBLISHED-TTL:P3D
REFRESH-INTERVAL:P3D
CALSCALE:GREGORIAN
BEGIN:VEVENT
DTSTART:20240703T223000Z
DTEND:20240704T013000Z
X-MICROSOFT-CDO-ALLDAYEVENT:FALSE
SUMMARY:South Denver Food/ Simonson Team RE/MAX Professionals Food Truck
DESCRIPTION:This all began with the Pandemic on how we could do more for our community. This is a community night meant to support local Food Trucks and provide a yummy meal to neighbors-- Small Businesses in our community. ALL are welcome. 9609 Canberra Dr in Highlands Ranch from June- AUGUST. (NO TRUCK the week of 4th of July)
X-ALT-DESC;FMTTYPE=text/html:<span style="background-color:rgb(255\, 255\, 255)\; color:rgb(5\, 5\, 5)\; font-family:segoe ui historic\,segoe ui\,helvetica\,arial\,sans-serif\; font-size:15px">This all began with the Pandemic on how we could do more for our community. This is a community night meant to support local Food Trucks and provide a yummy meal to neighbors-- Small Businesses in our community. ALL are welcome. 9609 Canberra Dr in Highlands Ranch from June- AUGUST. (NO TRUCK the week of 4th of July) </span>
LOCATION:9609 Canberra Dr. Highlands Ranch\, 80130
UID:e.7785.21522
SEQUENCE:3
DTSTAMP:20260421T082915Z
URL:https://members.nwdouglascounty.org/events/details/south-denver-food-simonson-team-re-max-professionals-food-truck-07-03-2024-21522
END:VEVENT

END:VCALENDAR
