BEGIN:VCALENDAR
VERSION:2.0
PRODID:-//ChamberMaster//Event Calendar 2.0//EN
METHOD:PUBLISH
X-PUBLISHED-TTL:P3D
REFRESH-INTERVAL:P3D
CALSCALE:GREGORIAN
BEGIN:VEVENT
DTSTART:20231118T013000Z
DTEND:20231118T030000Z
X-MICROSOFT-CDO-ALLDAYEVENT:FALSE
SUMMARY:Sparkling Wine Tasting
DESCRIPTION:Join us for an enchanting evening at our Sparkling Wine Tasting Event! Delight your senses as you sip on a curated selection of the finest sparkling wines from around the world\, all while indulging in delicious charcuterie. Experience the effervescent charm of these delightful bubbles as you savor each sip\, all while enjoying the company of fellow wine enthusiasts. Whether you're a seasoned connoisseur or just starting your sparkling wine journey\, this event promises a sparkling experience you won't want to miss. Cheers to a night of sophistication and celebration!
X-ALT-DESC;FMTTYPE=text/html:Join us for an enchanting evening at our Sparkling Wine Tasting Event! Delight your senses as you sip on a curated selection of the finest sparkling wines from around the world\, all while indulging in delicious charcuterie. Experience the effervescent charm of these delightful bubbles as you savor each sip\, all while enjoying the company of fellow wine enthusiasts. Whether you&#39\;re a seasoned connoisseur or just starting your sparkling wine journey\, this event promises a sparkling experience you won&#39\;t want to miss. Cheers to a night of sophistication and celebration!
LOCATION:Southridge Recreation Center\, 4800 McArthur Ranch Rd.\, Highlands Ranch CO 80130
UID:e.7785.21411
SEQUENCE:3
DTSTAMP:20260421T211142Z
URL:https://members.nwdouglascounty.org/events/details/sparkling-wine-tasting-21411
END:VEVENT

END:VCALENDAR
