BEGIN:VCALENDAR
VERSION:2.0
PRODID:-//ChamberMaster//Event Calendar 2.0//EN
METHOD:PUBLISH
X-PUBLISHED-TTL:P3D
REFRESH-INTERVAL:P3D
CALSCALE:GREGORIAN
BEGIN:VEVENT
DTSTART:20240406T140000Z
DTEND:20240406T180000Z
X-MICROSOFT-CDO-ALLDAYEVENT:FALSE
SUMMARY:Spring Cleaning Dumpster and Donation Event
DESCRIPTION:Experience the ultimate Spring Cleaning Celebration with Sarah Hubbard\, Colleen Sophia\, and Charisa Smaldone! Embrace the season of renewal by decluttering your space alongside like-minded individuals. Our event offers a complimentary dumpster for your convenience (please note we cannot accept hazardous materials or e-waste). Indulge in mouthwatering breakfast burritos\, refreshing drinks\, and delightful company as we rejuvenate our surroundings. Additionally\, we'll be collecting donations for Backpack Society\, a cherished non-profit. Don't miss this opportunity to refresh your home\, connect with friends\, and support a meaningful cause!
X-ALT-DESC;FMTTYPE=text/html:Experience the ultimate Spring Cleaning Celebration with Sarah Hubbard\, Colleen Sophia\, and Charisa Smaldone! Embrace the season of renewal by decluttering your space alongside like-minded individuals. Our event offers a complimentary dumpster for your convenience (please note we cannot accept hazardous materials or e-waste). Indulge in mouthwatering breakfast burritos\, refreshing drinks\, and delightful company as we rejuvenate our surroundings. <strong>Additionally\, we&#39\;ll be collecting donations for Backpack Society\, a cherished non-profit. Don&#39\;t miss this opportunity to refresh your home\, connect with friends\, and support a meaningful cause!</strong>
LOCATION:10050 Heatherwood Place Highlands Ranch CO 80126
UID:e.7785.21461
SEQUENCE:3
DTSTAMP:20260421T161935Z
URL:https://members.nwdouglascounty.org/events/details/spring-cleaning-dumpster-and-donation-event-21461
END:VEVENT

END:VCALENDAR
