BEGIN:VCALENDAR
VERSION:2.0
PRODID:-//ChamberMaster//Event Calendar 2.0//EN
METHOD:PUBLISH
X-PUBLISHED-TTL:P3D
REFRESH-INTERVAL:P3D
CALSCALE:GREGORIAN
BEGIN:VEVENT
DTSTART:20241128T143000Z
DTEND:20241128T190000Z
X-MICROSOFT-CDO-ALLDAYEVENT:FALSE
SUMMARY:Turkey ROCK TROT 5K Fun Run/ Walk / Stroll
DESCRIPTION:5K Family Fun Run/Walk/Stroll\n\n\n \n\n\n\n\nFREE 1K Kid's Dash sponsored by PR Youth Running\n\nCome out and join Castle Rock's largest attended running race\, indoor expo\, and Thanksgiving morning tradition   the Plum Creek Church 20th Annual Turkey ROCK Trot Presented by CORE 5K Family Fun Run/Walk/Stroll in Castle Rock\, CO. Whether you are a serious runner or leisurely walker\, bring the whole family and start a new tradition.\n\nYou are CHANGING LIVES with the Help&Hope Center when you register for the Turkey ROCK Trot. The Help&Hope Center provides assistance to our neighbors in Douglas and Elbert counties who are in serious economic need\, at risk of homelessness\, or in a similar crisis.
X-ALT-DESC;FMTTYPE=text/html:<div class="fusion-title title fusion-title-2 fusion-title-text fusion-title-size-one" style="box-sizing: border-box\; --awb-highlight-color: var(--primary_color\, #65bc7b)\; --awb-highlight-top-margin: 0\; --awb-highlight-width: 9\; --awb-text-color: var(--h1_typography-color)\; --awb-margin-top: var(--title_margin-top)\; --awb-margin-right: var(--title_margin-right)\; --awb-margin-bottom: var(--title_margin-bottom)\; --awb-margin-left: var(--title_margin-left)\; --awb-link-color: var(--link_color)\; --awb-link-hover-color: var(--link_hover_color)\; --awb-sep-color: var(--title_border_color)\; --awb-font-size: var(--h1_typography-font-size)\; margin-top: var(--awb-margin-top)\; margin-right: var(--awb-margin-right)\; margin-bottom: var(--awb-margin-bottom)\; margin-left: var(--awb-margin-left)\; display: flex\; flex-wrap: nowrap\; align-items: center\; border-bottom-color: var(--awb-sep-color)\; font-size: var(--awb-font-size)\; color: rgb(116\, 116\, 116)\; font-family: Raleway\;">\n<h2 class="vc_custom_heading vc_custom_1562700224244 text-center" style="box-sizing: border-box\; font-family: var(--h2_typography-font-family)\; font-weight: var(--h2_typography-font-weight)\; line-height: var(--h2_typography-line-height)\; letter-spacing: var(--h2_typography-letter-spacing)\; text-transform: var(--h2_typography-text-transform)\; font-style: var(--h2_typography-font-style\,normal)\; font-size: 1em\; color: var(--awb-text-color)\; margin-top: var(--h2_typography-margin-top)\; margin-bottom: var(--h2_typography-margin-bottom)\; flex-grow: 0\; padding: 0px\; text-align: center\;">5K Family Fun Run/Walk/Stroll</h2>\n\n<div class="title-sep-container title-sep-container-right" style="box-sizing: border-box\; position: relative\; height: 6px\; flex-grow: 1\;">\n<div class="title-sep sep-double sep-solid" style="box-sizing: content-box\; position: relative\; width: 0px\; border-color: rgb(224\, 222\, 222)\; border-top-width: 1px\; border-bottom-width: 1px\; height: 6px\;">&nbsp\;</div>\n</div>\n</div>\n\n<div class="fusion-text fusion-text-1" style="box-sizing: border-box\; --awb-content-alignment: initial\; --awb-font-size: inherit\; --awb-line-height: inherit\; --awb-letter-spacing: inherit\; --awb-text-transform: inherit\; --awb-text-color: inherit\; --awb-text-font-family: inherit\; --awb-text-font-style: inherit\; --awb-text-font-weight: inherit\; --awb-columns: var(--text_columns\, auto)\; --awb-column-spacing: var(--text_column_spacing\, normal)\; --awb-column-min-width: var(--text_column_min_width\, auto)\; --awb-rule-style: var(--text_rule_style\, initial)\; --awb-margin-top: 0\; --awb-margin-right: 0\; --awb-margin-bottom: 0\; --awb-margin-left: 0\; font-size: 18px\; line-height: var(--awb-line-height)\; color: rgb(116\, 116\, 116)\; font-family: Raleway\; margin: var(--awb-margin-top) var(--awb-margin-right) var(--awb-margin-bottom) var(--awb-margin-left)\;">\n<h3 style="box-sizing: border-box\; font-family: var(--h3_typography-font-family)\; font-weight: var(--h3_typography-font-weight)\; line-height: var(--h3_typography-line-height)\; letter-spacing: var(--h3_typography-letter-spacing)\; text-transform: var(--h3_typography-text-transform)\; font-style: var(--h3_typography-font-style\,normal)\; font-size: var(--h3_typography-font-size)\; color: var(--h3_typography-color)\; margin-top: var(--h3_typography-margin-top)\; margin-bottom: var(--h3_typography-margin-bottom)\;">FREE 1K Kid&rsquo\;s Dash sponsored by PR Youth Running</h3>\n\n<h3 class="vc_custom_heading text-center" style="box-sizing: border-box\; font-family: Raleway\; font-weight: var(--h3_typography-font-weight)\; line-height: var(--h3_typography-line-height)\; font-size: var(--h3_typography-font-size)\; color: var(--h3_typography-color)\; margin-top: var(--h3_typography-margin-top)\; margin-bottom: var(--h3_typography-margin-bottom)\; text-align: center\;">Come out and join Castle Rock&rsquo\;s largest attended running race\, indoor expo\, and Thanksgiving morning tradition &ndash\; the Plum Creek Church 20th Annual Turkey ROCK Trot Presented by CORE 5K Family Fun Run/Walk/Stroll in Castle Rock\, CO. Whether you are a serious runner or leisurely walker\, bring the whole family and start a new tradition.</h3>\n\n<h3 class="vc_custom_heading text-center" style="box-sizing: border-box\; font-family: Raleway\; font-weight: var(--h3_typography-font-weight)\; line-height: var(--h3_typography-line-height)\; font-size: var(--h3_typography-font-size)\; color: var(--h3_typography-color)\; margin-top: var(--h3_typography-margin-top)\; margin-bottom: var(--h3_typography-margin-bottom)\; text-align: center\;">You are CHANGING LIVES with the&nbsp\;<a href="https://www.helpandhopecenter.org/" rel="noopener noreferrer" style="box-sizing: border-box\; text-decoration-line: none\; transition-property: color\, background-color\, border-color\; transition-duration: 0.2s\; transition-timing-function: linear\; color: var(--link_color)\;" target="_blank">Help&amp\;Hope Center</a>&nbsp\;when you register for the Turkey ROCK Trot. The Help&amp\;Hope Center provides assistance to our neighbors in Douglas and Elbert counties who are in serious economic need\, at risk of homelessness\, or in a similar crisis.</h3>\n</div>\n
LOCATION:DC Events Center 500 Fairgrounds Drive Castle Rock\, CO
UID:e.7785.21580
SEQUENCE:3
DTSTAMP:20260421T012225Z
URL:https://members.nwdouglascounty.org/events/details/turkey-rock-trot-21580
END:VEVENT

END:VCALENDAR
