BEGIN:VCALENDAR
VERSION:2.0
PRODID:-//ChamberMaster//Event Calendar 2.0//EN
METHOD:PUBLISH
X-PUBLISHED-TTL:P3D
REFRESH-INTERVAL:P3D
CALSCALE:GREGORIAN
BEGIN:VEVENT
DTSTART:20240229T014500Z
DTEND:20240229T040000Z
X-MICROSOFT-CDO-ALLDAYEVENT:FALSE
SUMMARY:Unforgettable Showing of "The Retirement Deception"
DESCRIPTION:Movie with stories of real retirees enjoying a successful retirement. Strategies they use to help them create financial security\, peace of mind\, and protect themselves from the risks of market losses\, taxes\, inflation\, and living a long time. We believe it's more about your cash flow in retirement than the size of your next egg.
X-ALT-DESC;FMTTYPE=text/html:Movie with stories of real retirees enjoying a successful retirement. Strategies they use to help them create financial security\, peace of mind\, and protect themselves from the risks of market losses\, taxes\, inflation\, and living a long time. We believe it&#39\;s more about your cash flow in retirement than the size of your next egg.
LOCATION:DCSD Legacy Campus 10035 S Peoria St\, Lone Tree\, CO 80134
UID:e.7785.21426
SEQUENCE:3
DTSTAMP:20260421T162440Z
URL:https://members.nwdouglascounty.org/events/details/unforgettable-showing-of-the-retirement-deception-21426
END:VEVENT

END:VCALENDAR
