BEGIN:VCALENDAR
VERSION:2.0
PRODID:-//ChamberMaster//Event Calendar 2.0//EN
METHOD:PUBLISH
X-PUBLISHED-TTL:P3D
REFRESH-INTERVAL:P3D
CALSCALE:GREGORIAN
BEGIN:VEVENT
DTSTART:20250107T230000Z
DTEND:20250108T010000Z
X-MICROSOFT-CDO-ALLDAYEVENT:FALSE
SUMMARY:WBA After Hours - Children's Hospital of Colorado
DESCRIPTION:We will be providing a tour of the hospital\, light refreshments\, and attendees will have the opportunity to participate in a service project to give back to patients.\n\n	 \n	Please note that we are currently in respiratory season. Therefore\, If anyone is feeling cold or flu like symptoms at least 48 hours prior to the event\, we kindly ask that they refrain from attending as our number one priority is the health and safety of our patience.\n\n	 \n	Please bring a photo ID as all visitors will need to check in at our front desk upon arrival and receive a visitor sticker.
X-ALT-DESC;FMTTYPE=text/html:<ul style="color: rgb(36\, 36\, 36)\; font-family: &quot\;Segoe UI&quot\;\, &quot\;Segoe UI Web (West European)&quot\;\, -apple-system\, BlinkMacSystemFont\, Roboto\, &quot\;Helvetica Neue&quot\;\, sans-serif\; font-size: 15px\; margin-bottom: 0in\;">\n	<li style="font-family: Calibri\, sans-serif\; font-size: 11pt\; color: red\; margin: 0in\;"><span data-olk-copy-source="MessageBody" style="border: 0px\; font-style: inherit\; font-variant: inherit\; font-weight: inherit\; font-stretch: inherit\; font-size: inherit\; line-height: inherit\; font-family: &quot\;Aptos Narrow&quot\;\, sans-serif\; font-optical-sizing: inherit\; font-size-adjust: inherit\; font-kerning: inherit\; font-feature-settings: inherit\; font-variation-settings: inherit\; margin: 0px\; padding: 0px\; vertical-align: baseline\; color: inherit\;">We will be providing a tour of the hospital\, light refreshments\, and attendees will have the opportunity to participate in a service project to give back to patients.</span><br />\n	&nbsp\;</li>\n	<li style="font-family: Calibri\, sans-serif\; font-size: 11pt\; color: red\; margin: 0in\;"><span style="border: 0px\; font-style: inherit\; font-variant: inherit\; font-weight: inherit\; font-stretch: inherit\; font-size: inherit\; line-height: inherit\; font-family: &quot\;Aptos Narrow&quot\;\, sans-serif\; font-optical-sizing: inherit\; font-size-adjust: inherit\; font-kerning: inherit\; font-feature-settings: inherit\; font-variation-settings: inherit\; margin: 0px\; padding: 0px\; vertical-align: baseline\; color: inherit\;">Please note that we are currently in respiratory season. Therefore\, If anyone is feeling cold or flu like symptoms at least 48 hours prior to the event\, we kindly ask that they refrain from attending as our number one priority is the health and safety of our patience.</span><br />\n	&nbsp\;</li>\n	<li style="font-family: Calibri\, sans-serif\; font-size: 11pt\; color: red\; margin: 0in\;"><span style="border: 0px\; font-style: inherit\; font-variant: inherit\; font-weight: inherit\; font-stretch: inherit\; font-size: inherit\; line-height: inherit\; font-family: &quot\;Aptos Narrow&quot\;\, sans-serif\; font-optical-sizing: inherit\; font-size-adjust: inherit\; font-kerning: inherit\; font-feature-settings: inherit\; font-variation-settings: inherit\; margin: 0px\; padding: 0px\; vertical-align: baseline\; color: inherit\;">Please bring a photo ID as all visitors will need to check in at our front desk upon arrival and receive a visitor sticker.&nbsp\;&nbsp\;</span></li>\n</ul>\n
LOCATION:Children's Hospital South Campus Location in the Main Entrance 1811 Plaza Dr. Highlands Ranch\, CO 80129
UID:e.7785.21576
SEQUENCE:3
DTSTAMP:20260420T202955Z
URL:https://members.nwdouglascounty.org/events/details/wba-after-hours-children-s-hospital-of-colorado-21576
END:VEVENT

END:VCALENDAR
