BEGIN:VCALENDAR
VERSION:2.0
PRODID:-//ChamberMaster//Event Calendar 2.0//EN
METHOD:PUBLISH
X-PUBLISHED-TTL:P3D
REFRESH-INTERVAL:P3D
CALSCALE:GREGORIAN
BEGIN:VEVENT
DTSTART:20240420T160000Z
DTEND:20240420T173000Z
X-MICROSOFT-CDO-ALLDAYEVENT:FALSE
SUMMARY:WEAVE Your Financial Tapestry - April 20th
DESCRIPTION:
X-ALT-DESC;FMTTYPE=text/html:
LOCATION:The Village Event Center 7173 South Havana Street\, Centennial\, Colorado
UID:e.7785.21463
SEQUENCE:3
DTSTAMP:20260421T162204Z
URL:https://members.nwdouglascounty.org/events/details/weave-your-financial-tapestry-april-20th-21463
END:VEVENT

END:VCALENDAR
